BEGIN:VCALENDAR
VERSION:2.0
PRODID:-//Tukios.com/
BEGIN:VEVENT
UID:05a305d6-6971-4de2-85f9-c1810eac0636@www.hofmeisterjones.com
DTSTAMP:20260423T012451Z
DTSTART:20260427T150000Z
DTEND:20260427T160000Z
SUMMARY:Memorial Service
DESCRIPTION:
URL:https://www.hofmeisterjones.com/obituaries/dianna-ihnen
LOCATION:Grace Lutheran Church 490 East 1st Street  Parker SD 57053
GEO:43.3961715;-97.1313398
END:VEVENT
END:VCALENDAR